BEGIN:VCALENDAR
VERSION:2.0
PRODID:-//Parrocchie di Piamborno e Cogno - ECPv6.15.20//NONSGML v1.0//EN
CALSCALE:GREGORIAN
METHOD:PUBLISH
X-ORIGINAL-URL:https://www.parrpiamborno.com
X-WR-CALDESC:Eventi per Parrocchie di Piamborno e Cogno
REFRESH-INTERVAL;VALUE=DURATION:PT1H
X-Robots-Tag:noindex
X-PUBLISHED-TTL:PT1H
BEGIN:VTIMEZONE
TZID:Europe/Rome
BEGIN:DAYLIGHT
TZOFFSETFROM:+0100
TZOFFSETTO:+0200
TZNAME:CEST
DTSTART:20220327T010000
END:DAYLIGHT
BEGIN:STANDARD
TZOFFSETFROM:+0200
TZOFFSETTO:+0100
TZNAME:CET
DTSTART:20221030T010000
END:STANDARD
BEGIN:DAYLIGHT
TZOFFSETFROM:+0100
TZOFFSETTO:+0200
TZNAME:CEST
DTSTART:20230326T010000
END:DAYLIGHT
BEGIN:STANDARD
TZOFFSETFROM:+0200
TZOFFSETTO:+0100
TZNAME:CET
DTSTART:20231029T010000
END:STANDARD
BEGIN:DAYLIGHT
TZOFFSETFROM:+0100
TZOFFSETTO:+0200
TZNAME:CEST
DTSTART:20240331T010000
END:DAYLIGHT
BEGIN:STANDARD
TZOFFSETFROM:+0200
TZOFFSETTO:+0100
TZNAME:CET
DTSTART:20241027T010000
END:STANDARD
END:VTIMEZONE
BEGIN:VEVENT
DTSTART;VALUE=DATE:20231026
DTEND;VALUE=DATE:20231029
DTSTAMP:20260419T214204
CREATED:20231024T182151Z
LAST-MODIFIED:20231024T182151Z
UID:3087-1698278400-1698537599@www.parrpiamborno.com
SUMMARY:Triduo dei defunti
DESCRIPTION:Giovedì 26 Ottobre \nTRIDUO DEI DEFUNTI \nBenefattori Defunti\n16.15\nCogno \nchiesa parrocchiale\nSs. Confessioni per i Ragazzi delle Elementari\n\n\n17.00\nCogno\nchiesa parrocchiale\nAdorazione e Ss. Confessioni\n\n\n18.00\nCogno\nchiesa parrocchiale\nS. Messa\n\n\n19.00\nPiamborno\nchiesa parrocchiale\nAdorazione e Ss. Confessioni\n\n\n20.00\nPiamborno\nchiesa parrocchiale\nS. Messa\n\n\n21.00\nPiamborno\nchiesa parrocchiale\nAdorazione\, Ss. Confessioni per i Ragazzi delle Medie segue Benedizione Eucaristica\n\n\nVenerdì 27 Ottobre \nTRIDUO DEI DEFUNTI \nGiovani Defunti\n17.00\nCogno\nchiesa parrocchiale\nAdorazione e Ss. Confessioni\n\n\n18.00\nCogno\nchiesa parrocchiale\nS. Messa\n\n\n19.00\nPiamborno\nchiesa parrocchiale\nAdorazione e Ss. Confessioni\n\n\n20.00\nPiamborno\nchiesa parrocchiale\nS. Messa – Segue Visita al Camposanto\n\n\n21.00\nCogno\nchiesa parrocchiale\nAdorazione e Ss. Confessioni fino alle 22.00. Segue Benedizione Eucaristica\n\n\nSabato 28 Ottobre \nTRIDUO DEI DEFUNTI \nSacerdoti e Suore Defunti\n17.00\nCogno\nchiesa parrocchiale\nAdorazione e Ss. Confessioni\n\n\n18.00\nCogno\nchiesa parrocchiale\nS. Messa\n\n\n19.00\nPiamborno\nchiesa parrocchiale\nAdorazione e Ss. Confessioni\n\n\n20.00\nPiamborno\nchiesa parrocchiale\nS. Messa
URL:https://www.parrpiamborno.com/index.php/event/triduo-dei-defunti/
CATEGORIES:Celebrazioni,Parrocchia Cogno,Parrocchia Piamborno
END:VEVENT
END:VCALENDAR