BEGIN:VCALENDAR
VERSION:2.0
PRODID:-//Parrocchie di Piamborno e Cogno - ECPv6.15.20//NONSGML v1.0//EN
CALSCALE:GREGORIAN
METHOD:PUBLISH
X-WR-CALNAME:Parrocchie di Piamborno e Cogno
X-ORIGINAL-URL:https://www.parrpiamborno.com
X-WR-CALDESC:Eventi per Parrocchie di Piamborno e Cogno
REFRESH-INTERVAL;VALUE=DURATION:PT1H
X-Robots-Tag:noindex
X-PUBLISHED-TTL:PT1H
BEGIN:VTIMEZONE
TZID:Europe/Rome
BEGIN:DAYLIGHT
TZOFFSETFROM:+0100
TZOFFSETTO:+0200
TZNAME:CEST
DTSTART:20220327T010000
END:DAYLIGHT
BEGIN:STANDARD
TZOFFSETFROM:+0200
TZOFFSETTO:+0100
TZNAME:CET
DTSTART:20221030T010000
END:STANDARD
BEGIN:DAYLIGHT
TZOFFSETFROM:+0100
TZOFFSETTO:+0200
TZNAME:CEST
DTSTART:20230326T010000
END:DAYLIGHT
BEGIN:STANDARD
TZOFFSETFROM:+0200
TZOFFSETTO:+0100
TZNAME:CET
DTSTART:20231029T010000
END:STANDARD
BEGIN:DAYLIGHT
TZOFFSETFROM:+0100
TZOFFSETTO:+0200
TZNAME:CEST
DTSTART:20240331T010000
END:DAYLIGHT
BEGIN:STANDARD
TZOFFSETFROM:+0200
TZOFFSETTO:+0100
TZNAME:CET
DTSTART:20241027T010000
END:STANDARD
END:VTIMEZONE
BEGIN:VEVENT
DTSTART;TZID=Europe/Rome:20231030T200000
DTEND;TZID=Europe/Rome:20231030T223000
DTSTAMP:20260419T144853
CREATED:20231024T182954Z
LAST-MODIFIED:20231024T182954Z
UID:3105-1698696000-1698705000@www.parrpiamborno.com
SUMMARY:"Cammino di Luce"
DESCRIPTION:Ritrovo alle ore 20:00 in chiesa parrocchiale a Piamborno per i Ragazzi delle Elementari e delle Medie per il  “Cammino di Luce” fino alla chiesa parrocchiale di Cogno\, segue festa in Oratorio.
URL:https://www.parrpiamborno.com/index.php/event/cammino-di-luce/
LOCATION:Chiesa di Piamborno\, Via XI Febbraio\, 10\, Piamborno\, Brescia\, 25052\, Italy
CATEGORIES:Parrocchia Cogno,Parrocchia Piamborno
END:VEVENT
END:VCALENDAR