BEGIN:VCALENDAR
VERSION:2.0
PRODID:-//Parrocchie di Piamborno e Cogno - ECPv6.15.20//NONSGML v1.0//EN
CALSCALE:GREGORIAN
METHOD:PUBLISH
X-ORIGINAL-URL:https://www.parrpiamborno.com
X-WR-CALDESC:Eventi per Parrocchie di Piamborno e Cogno
REFRESH-INTERVAL;VALUE=DURATION:PT1H
X-Robots-Tag:noindex
X-PUBLISHED-TTL:PT1H
BEGIN:VTIMEZONE
TZID:Europe/Rome
BEGIN:DAYLIGHT
TZOFFSETFROM:+0100
TZOFFSETTO:+0200
TZNAME:CEST
DTSTART:20240331T010000
END:DAYLIGHT
BEGIN:STANDARD
TZOFFSETFROM:+0200
TZOFFSETTO:+0100
TZNAME:CET
DTSTART:20241027T010000
END:STANDARD
BEGIN:DAYLIGHT
TZOFFSETFROM:+0100
TZOFFSETTO:+0200
TZNAME:CEST
DTSTART:20250330T010000
END:DAYLIGHT
BEGIN:STANDARD
TZOFFSETFROM:+0200
TZOFFSETTO:+0100
TZNAME:CET
DTSTART:20251026T010000
END:STANDARD
BEGIN:DAYLIGHT
TZOFFSETFROM:+0100
TZOFFSETTO:+0200
TZNAME:CEST
DTSTART:20260329T010000
END:DAYLIGHT
BEGIN:STANDARD
TZOFFSETFROM:+0200
TZOFFSETTO:+0100
TZNAME:CET
DTSTART:20261025T010000
END:STANDARD
BEGIN:DAYLIGHT
TZOFFSETFROM:+0100
TZOFFSETTO:+0200
TZNAME:CEST
DTSTART:20270328T010000
END:DAYLIGHT
BEGIN:STANDARD
TZOFFSETFROM:+0200
TZOFFSETTO:+0100
TZNAME:CET
DTSTART:20271031T010000
END:STANDARD
END:VTIMEZONE
BEGIN:VEVENT
DTSTART;TZID=Europe/Rome:20260327T190000
DTEND;TZID=Europe/Rome:20260327T203000
DTSTAMP:20260419T162059
CREATED:20260205T210259Z
LAST-MODIFIED:20260205T210304Z
UID:4246-1774638000-1774643400@www.parrpiamborno.com
SUMMARY:Via Crucis
DESCRIPTION:
URL:https://www.parrpiamborno.com/index.php/event/via-crucis-3/
LOCATION:Chiesa di Piamborno\, Via XI Febbraio\, 10\, Piamborno\, Brescia\, 25052\, Italy
CATEGORIES:Eventi della Parrocchia,Parrocchia
ATTACH;FMTTYPE=image/jpeg:https://www.parrpiamborno.com/wp-content/uploads/2026/02/QuaresimaLogo.jpeg
END:VEVENT
BEGIN:VEVENT
DTSTART;TZID=Europe/Rome:20260325T200000
DTEND;TZID=Europe/Rome:20260325T213000
DTSTAMP:20260419T162059
CREATED:20260205T195247Z
LAST-MODIFIED:20260205T195251Z
UID:4225-1774468800-1774474200@www.parrpiamborno.com
SUMMARY:Solennità dell'Annunciazione di Maria
DESCRIPTION:
URL:https://www.parrpiamborno.com/index.php/event/solennita-dellannunciazione-di-maria/
LOCATION:Chiesa di Cogno\, Piazza don Pietro Stefanini\, 2\, Piancogno\, Italy
CATEGORIES:Eventi della Parrocchia,Parrocchia
ATTACH;FMTTYPE=image/jpeg:https://www.parrpiamborno.com/wp-content/uploads/2026/02/QuaresimaLogo.jpeg
END:VEVENT
BEGIN:VEVENT
DTSTART;TZID=Europe/Rome:20260320T203000
DTEND;TZID=Europe/Rome:20260320T213000
DTSTAMP:20260419T162059
CREATED:20260205T210122Z
LAST-MODIFIED:20260205T210127Z
UID:4244-1774038600-1774042200@www.parrpiamborno.com
SUMMARY:Centri di ascolto
DESCRIPTION:
URL:https://www.parrpiamborno.com/index.php/event/centri-di-ascolto-2/
CATEGORIES:Eventi della Parrocchia,Parrocchia
ATTACH;FMTTYPE=image/jpeg:https://www.parrpiamborno.com/wp-content/uploads/2026/02/QuaresimaLogo.jpeg
END:VEVENT
BEGIN:VEVENT
DTSTART;TZID=Europe/Rome:20260319T200000
DTEND;TZID=Europe/Rome:20260319T213000
DTSTAMP:20260419T162059
CREATED:20260205T193843Z
LAST-MODIFIED:20260205T193848Z
UID:4218-1773950400-1773955800@www.parrpiamborno.com
SUMMARY:Festa di San Giuseppe 2026
DESCRIPTION:
URL:https://www.parrpiamborno.com/index.php/event/festa-di-san-giuseppe-2026/
LOCATION:Chiesa di Piamborno\, Via XI Febbraio\, 10\, Piamborno\, Brescia\, 25052\, Italy
CATEGORIES:Eventi della Parrocchia,Parrocchia
ATTACH;FMTTYPE=image/jpeg:https://www.parrpiamborno.com/wp-content/uploads/2026/02/QuaresimaLogo.jpeg
END:VEVENT
BEGIN:VEVENT
DTSTART;TZID=Europe/Rome:20260313T190000
DTEND;TZID=Europe/Rome:20260313T203000
DTSTAMP:20260419T162059
CREATED:20260205T205915Z
LAST-MODIFIED:20260205T205920Z
UID:4242-1773428400-1773433800@www.parrpiamborno.com
SUMMARY:Via Crucis
DESCRIPTION:
URL:https://www.parrpiamborno.com/index.php/event/via-crucis-2/
LOCATION:Chiesa di Cogno\, Piazza don Pietro Stefanini\, 2\, Piancogno\, Italy
CATEGORIES:Eventi della Parrocchia,Parrocchia
ATTACH;FMTTYPE=image/jpeg:https://www.parrpiamborno.com/wp-content/uploads/2026/02/QuaresimaLogo.jpeg
END:VEVENT
BEGIN:VEVENT
DTSTART;TZID=Europe/Rome:20260304T000000
DTEND;TZID=Europe/Rome:20260306T235959
DTSTAMP:20260419T162059
CREATED:20260205T205703Z
LAST-MODIFIED:20260205T205708Z
UID:4240-1772582400-1772841599@www.parrpiamborno.com
SUMMARY:Esercizi Spirituali nella vita corrente
DESCRIPTION:
URL:https://www.parrpiamborno.com/index.php/event/esercizi-spirituali-nella-vita-corrente/
LOCATION:Chiesa di Cogno\, Piazza don Pietro Stefanini\, 2\, Piancogno\, Italy
CATEGORIES:Eventi della Parrocchia,Parrocchia
ATTACH;FMTTYPE=image/jpeg:https://www.parrpiamborno.com/wp-content/uploads/2026/02/QuaresimaLogo.jpeg
END:VEVENT
BEGIN:VEVENT
DTSTART;TZID=Europe/Rome:20260227T203000
DTEND;TZID=Europe/Rome:20260227T213000
DTSTAMP:20260419T162059
CREATED:20260205T205443Z
LAST-MODIFIED:20260205T205447Z
UID:4238-1772224200-1772227800@www.parrpiamborno.com
SUMMARY:Centri di Ascolto
DESCRIPTION:
URL:https://www.parrpiamborno.com/index.php/event/centri-di-ascolto/
CATEGORIES:Eventi della Parrocchia,Parrocchia
ATTACH;FMTTYPE=image/jpeg:https://www.parrpiamborno.com/wp-content/uploads/2026/02/QuaresimaLogo.jpeg
END:VEVENT
BEGIN:VEVENT
DTSTART;TZID=Europe/Rome:20260223T203000
DTEND;TZID=Europe/Rome:20260223T220000
DTSTAMP:20260419T162059
CREATED:20260128T224635Z
LAST-MODIFIED:20260205T192213Z
UID:4183-1771878600-1771884000@www.parrpiamborno.com
SUMMARY:Catechisti online - Una vita mossa dallo Spirito
DESCRIPTION:
URL:https://www.parrpiamborno.com/index.php/event/catechisti-online-una-vita-mossa-dallo-spirito-3/
LOCATION:Teatro dell’Oratorio di Piamborno\, Via Nazionale\, 14\, Piamborno\, Brescia\, 25052\, Italy
CATEGORIES:Eventi della Parrocchia,Parrocchia,Teatro
ATTACH;FMTTYPE=image/png:https://www.parrpiamborno.com/wp-content/uploads/2026/01/Corso-catechisti-s.png
END:VEVENT
BEGIN:VEVENT
DTSTART;TZID=Europe/Rome:20260220T190000
DTEND;TZID=Europe/Rome:20260220T203000
DTSTAMP:20260419T162059
CREATED:20260205T205307Z
LAST-MODIFIED:20260205T205313Z
UID:4235-1771614000-1771619400@www.parrpiamborno.com
SUMMARY:Via Crucis
DESCRIPTION:
URL:https://www.parrpiamborno.com/index.php/event/via-crucis/
LOCATION:Chiesa di Piamborno\, Via XI Febbraio\, 10\, Piamborno\, Brescia\, 25052\, Italy
CATEGORIES:Eventi della Parrocchia,Parrocchia
ATTACH;FMTTYPE=image/jpeg:https://www.parrpiamborno.com/wp-content/uploads/2026/02/QuaresimaLogo.jpeg
END:VEVENT
BEGIN:VEVENT
DTSTART;TZID=Europe/Rome:20260218T000000
DTEND;TZID=Europe/Rome:20260218T235959
DTSTAMP:20260419T162059
CREATED:20260205T192625Z
LAST-MODIFIED:20260205T192630Z
UID:4205-1771372800-1771459199@www.parrpiamborno.com
SUMMARY:Mercoledì delle ceneri
DESCRIPTION:
URL:https://www.parrpiamborno.com/index.php/event/mercoledi-delle-ceneri/
CATEGORIES:Eventi della Parrocchia,Parrocchia
ATTACH;FMTTYPE=image/jpeg:https://www.parrpiamborno.com/wp-content/uploads/2026/02/QuaresimaLogo.jpeg
END:VEVENT
BEGIN:VEVENT
DTSTART;TZID=Europe/Rome:20260209T203000
DTEND;TZID=Europe/Rome:20260209T220000
DTSTAMP:20260419T162100
CREATED:20260128T224629Z
LAST-MODIFIED:20260205T192219Z
UID:4182-1770669000-1770674400@www.parrpiamborno.com
SUMMARY:Catechisti online - Una vita mossa dallo Spirito
DESCRIPTION:
URL:https://www.parrpiamborno.com/index.php/event/catechisti-online-una-vita-mossa-dallo-spirito-2/
LOCATION:Teatro dell’Oratorio di Piamborno\, Via Nazionale\, 14\, Piamborno\, Brescia\, 25052\, Italy
CATEGORIES:Eventi della Parrocchia,Parrocchia,Teatro
ATTACH;FMTTYPE=image/png:https://www.parrpiamborno.com/wp-content/uploads/2026/01/Corso-catechisti-s.png
END:VEVENT
BEGIN:VEVENT
DTSTART;TZID=Europe/Rome:20260208T140000
DTEND;TZID=Europe/Rome:20260208T180000
DTSTAMP:20260419T162100
CREATED:20260208T171021Z
LAST-MODIFIED:20260208T171032Z
UID:4282-1770559200-1770573600@www.parrpiamborno.com
SUMMARY:StartUp - Festa della fede
DESCRIPTION:Tutte le informazioni sul sito del Centro Oratori Bresciani
URL:https://www.parrpiamborno.com/index.php/event/startup-festa-della-fede/
LOCATION:Oratorio S.Vittore Piamborno\, Via Nazionale\, 14\, Piamborno BS\, Brescia\, 25052\, Italia
CATEGORIES:Eventi della Parrocchia,Oratorio,Parrocchia
ATTACH;FMTTYPE=image/jpeg:https://www.parrpiamborno.com/wp-content/uploads/2026/02/locandina-start-up-2026_210-x-297_page-0001-1107x1536-1.jpg
END:VEVENT
BEGIN:VEVENT
DTSTART;TZID=Europe/Rome:20260202T203000
DTEND;TZID=Europe/Rome:20260202T220000
DTSTAMP:20260419T162100
CREATED:20260128T224227Z
LAST-MODIFIED:20260205T192226Z
UID:4179-1770064200-1770069600@www.parrpiamborno.com
SUMMARY:Catechisti online  - Una vita mossa dallo Spirito
DESCRIPTION:
URL:https://www.parrpiamborno.com/index.php/event/catechisti-online-una-vita-mossa-dallo-spirito/
LOCATION:Teatro dell’Oratorio di Piamborno\, Via Nazionale\, 14\, Piamborno\, Brescia\, 25052\, Italy
CATEGORIES:Eventi della Parrocchia,Parrocchia,Teatro
ATTACH;FMTTYPE=image/png:https://www.parrpiamborno.com/wp-content/uploads/2026/01/Corso-catechisti-s.png
END:VEVENT
BEGIN:VEVENT
DTSTART;TZID=Europe/Rome:20260117T150000
DTEND;TZID=Europe/Rome:20260117T190000
DTSTAMP:20260419T162100
CREATED:20260113T174826Z
LAST-MODIFIED:20260113T181334Z
UID:4159-1768662000-1768676400@www.parrpiamborno.com
SUMMARY:S. Antonio Abate - Benedizione degli animali\, fuoco e sale
DESCRIPTION:
URL:https://www.parrpiamborno.com/index.php/event/s-antonio-abate-benedizione-degli-animali-fuoco-e-sale/
CATEGORIES:Eventi della Parrocchia,Parrocchia,Parrocchia Cogno,Parrocchia Piamborno
ATTACH;FMTTYPE=image/jpeg:https://www.parrpiamborno.com/wp-content/uploads/2026/01/SAntonio.jpeg
END:VEVENT
BEGIN:VEVENT
DTSTART;TZID=Europe/Rome:20260105T203000
DTEND;TZID=Europe/Rome:20260105T220000
DTSTAMP:20260419T162100
CREATED:20260104T130216Z
LAST-MODIFIED:20260104T130227Z
UID:4129-1767645000-1767650400@www.parrpiamborno.com
SUMMARY:Coro "Il Tesoretto" - Seguiamo la Stella
DESCRIPTION:
URL:https://www.parrpiamborno.com/index.php/event/coro-il-tesoretto-seguiamo-la-stella/
LOCATION:Chiesa di Piamborno\, Via XI Febbraio\, 10\, Piamborno\, Brescia\, 25052\, Italy
CATEGORIES:Eventi della Parrocchia,Parrocchia,Parrocchia Cogno,Parrocchia Piamborno
ATTACH;FMTTYPE=image/jpeg:https://www.parrpiamborno.com/wp-content/uploads/2026/01/tesoretto.jpeg
END:VEVENT
BEGIN:VEVENT
DTSTART;TZID=Europe/Rome:20251227T000000
DTEND;TZID=Europe/Rome:20251227T235959
DTSTAMP:20260419T162100
CREATED:20251208T131839Z
LAST-MODIFIED:20251208T132422Z
UID:4065-1766793600-1766879999@www.parrpiamborno.com
SUMMARY:Festa della Sacra Famiglia 2025
DESCRIPTION:Visualizza a schermo interoSkip to PDF content
URL:https://www.parrpiamborno.com/index.php/event/festa-della-sacra-famiglia-2025/
CATEGORIES:Eventi della Parrocchia,Parrocchia,Parrocchia Cogno,Parrocchia Piamborno
ATTACH;FMTTYPE=image/png:https://www.parrpiamborno.com/wp-content/uploads/2025/12/Screenshot-2025-12-08-142010.png
END:VEVENT
BEGIN:VEVENT
DTSTART;TZID=Europe/Rome:20251223T203000
DTEND;TZID=Europe/Rome:20251223T223000
DTSTAMP:20260419T162100
CREATED:20251203T101844Z
LAST-MODIFIED:20251205T183817Z
UID:4028-1766521800-1766529000@www.parrpiamborno.com
SUMMARY:Concerto di Natale del Coro San Filippo
DESCRIPTION:
URL:https://www.parrpiamborno.com/index.php/event/concerto-di-natale-del-coro-san-filippo/
LOCATION:Chiesa di Cogno\, Piazza don Pietro Stefanini\, 2\, Piancogno\, Italy
CATEGORIES:Eventi della Parrocchia,Musica,Parrocchia,Parrocchia Cogno,Parrocchia Piamborno
ATTACH;FMTTYPE=image/jpeg:https://www.parrpiamborno.com/wp-content/uploads/2025/12/Immagine-WhatsApp-2025-12-03-ore-10.47.57_0316cb33.jpg
END:VEVENT
BEGIN:VEVENT
DTSTART;TZID=Europe/Rome:20251212T180000
DTEND;TZID=Europe/Rome:20251212T190000
DTSTAMP:20260419T162100
CREATED:20251208T132540Z
LAST-MODIFIED:20251208T132545Z
UID:4072-1765562400-1765566000@www.parrpiamborno.com
SUMMARY:9° Anniversario della morte di don Pietro Stefanini
DESCRIPTION:(2016 – 12 Dicembre – 2025) \n\n\n\nVenerdì 12 Dicembre 2025 \n\n\n\nS. MESSA ore 18.00 in chiesa parrocchiale a Cogno nel giorno Anniversario della morte
URL:https://www.parrpiamborno.com/index.php/event/9-anniversario-della-morte-di-don-pietro-stefanini/
LOCATION:Chiesa di Cogno\, Piazza don Pietro Stefanini\, 2\, Piancogno\, Italy
CATEGORIES:Eventi della Parrocchia,Parrocchia,Parrocchia Cogno
ATTACH;FMTTYPE=image/jpeg:https://www.parrpiamborno.com/wp-content/uploads/2025/12/Immagine1.jpg
END:VEVENT
BEGIN:VEVENT
DTSTART;TZID=Europe/Rome:20251212T163000
DTEND;TZID=Europe/Rome:20251212T190000
DTSTAMP:20260419T162100
CREATED:20251203T101513Z
LAST-MODIFIED:20251205T183848Z
UID:4025-1765557000-1765566000@www.parrpiamborno.com
SUMMARY:Santa Lucia 2025
DESCRIPTION:
URL:https://www.parrpiamborno.com/index.php/event/santa-lucia-2025/
CATEGORIES:Celebrazioni,Eventi della Parrocchia,Oratorio,Oratorio Cogno,Oratorio Piamborno,Parrocchia,Parrocchia Cogno,Parrocchia Piamborno
ATTACH;FMTTYPE=image/jpeg:https://www.parrpiamborno.com/wp-content/uploads/2025/12/photo_2025-12-03_11-14-01.jpg
END:VEVENT
BEGIN:VEVENT
DTSTART;TZID=Europe/Rome:20251103T000000
DTEND;TZID=Europe/Rome:20251108T235959
DTSTAMP:20260419T162100
CREATED:20251026T183246Z
LAST-MODIFIED:20251026T183252Z
UID:4001-1762128000-1762646399@www.parrpiamborno.com
SUMMARY:Ottavario dei Defunti
DESCRIPTION:DataOraParrocchiaLuogoCelebrazioneLunedì 3 Novembre15:00PiambornocamposantoS. Messa17:00CognocamposantoS. MessaMartedì 4 Novembre15:00PiambornocamposantoS. Messa17:00CognocamposantoS. MessaMercoledì 5 Novembre15:00PiambornocamposantoS. Messa17:00CognocamposantoS. MessaGiovedì 6 Novembre15:00PiambornocamposantoS. Messa17:00CognocamposantoS. MessaVenerdì 7 Novembre15:00PiambornocamposantoS. Messa17:00CognocamposantoS. MessaSabato 8 Novembre15:00PiambornocamposantoS. Messa festiva17:00CognocamposantoS. Messa festiva18:00Cognochiesa parrocchialeS. Messa festiva con le Famiglie
URL:https://www.parrpiamborno.com/index.php/event/ottavario-dei-defunti-2/
CATEGORIES:Celebrazioni,Parrocchia,Parrocchia Cogno,Parrocchia Piamborno
END:VEVENT
BEGIN:VEVENT
DTSTART;TZID=Europe/Rome:20251102T000000
DTEND;TZID=Europe/Rome:20251102T235959
DTSTAMP:20260419T162100
CREATED:20251026T183016Z
LAST-MODIFIED:20251026T183021Z
UID:3999-1762041600-1762127999@www.parrpiamborno.com
SUMMARY:Commemorazione di tutti i Fedeli Defunti
DESCRIPTION:DataOraParrocchiaLuogoCelebrazioneDomenica 2 NovembreCOMMEMORAZIONE DI TUTTI I FEDELI DEFUNTI10:00PiambornoRSAS. Messa per gli ospiti11:00Piambornochiesa parrocchialeS. Messa15:00PiambornocamposantoS. Messa – Benedizione Tombe15:00CognocamposantoS. Messa – Benedizione Tombe18:00Cognochiesa parrocchialeS. Messa19:00Piambornochiesa parrocchialeS. Messa con gli Adolescenti
URL:https://www.parrpiamborno.com/index.php/event/commemorazione-di-tutti-i-fedeli-defunti-2/
CATEGORIES:Celebrazioni,Parrocchia,Parrocchia Cogno,Parrocchia Piamborno
END:VEVENT
BEGIN:VEVENT
DTSTART;TZID=Europe/Rome:20251101T000000
DTEND;TZID=Europe/Rome:20251101T235959
DTSTAMP:20260419T162100
CREATED:20251026T182722Z
LAST-MODIFIED:20251026T182729Z
UID:3997-1761955200-1762041599@www.parrpiamborno.com
SUMMARY:Solennità di Tutti Santi
DESCRIPTION:DataOraParrocchiaLuogoCelebrazioneVenerdì 31 OttobreVigilia di Tutti i Santi17:00Piambornochiesa parrocchialeS. Messa della Vigilia18:00Cognochiesa parrocchialeS. Messa della VigiliaSabato 1° NovembreTUTTI I SANTI8:00Piambornochiesa parrocchialeS. Messa10:00PiambornoRSAS. Messa per gli ospiti14:00Piambornochiesa parrocchialeSecondi Vespri\, segue Processione15:00PiambornocamposantoS. Messa16:15Cognochiesa parrocchialeSecondi Vespri\, segue Processione17:00CognocamposantoS. Messa18:00Cognochiesa parrocchialeS. Messa con le FamiglieSegue cena in Oratorio  per i Ragazzi delle Elementarie delle Medie\, segue il “Cammino di Luce” in pullman
URL:https://www.parrpiamborno.com/index.php/event/solennita-di-tutti-santi/
CATEGORIES:Celebrazioni,Parrocchia,Parrocchia Cogno,Parrocchia Piamborno
END:VEVENT
BEGIN:VEVENT
DTSTART;TZID=Europe/Rome:20251028T000000
DTEND;TZID=Europe/Rome:20251030T235959
DTSTAMP:20260419T162100
CREATED:20251026T093122Z
LAST-MODIFIED:20251026T093128Z
UID:3992-1761609600-1761868799@www.parrpiamborno.com
SUMMARY:Triduo dei Defunti
DESCRIPTION:Sacerdoti predicatori e confessori: don Claudio Laffranchini a Piamborno e don Daniel Pedretti a Cogno \n\n\n\nDataOraParrocchiaLuogoCelebrazioneMartedì 28 OttobreTRIDUO DEI DEFUNTIBenefattori Defunti16:15Piambornochiesa parrocchialeSs. Confessioni per i Ragazzi delle Elementari16:45Piambornochiesa parrocchialeSs. Confessioni per i Ragazzi delle Medie17:00Cognochiesa parrocchialeAdorazione e Ss. Confessioni18:00Cognochiesa parrocchialeS. Messa19:00Piambornochiesa parrocchialeAdorazione e Ss. Confessioni20:00Piambornochiesa parrocchialeS. Messa21:00Piambornochiesa parrocchialeAdorazione e Ss. Confessioni fino alle 22:00 segue Benedizione EucaristicaMercoledì 29 OttobreTRIDUO DEI DEFUNTIGiovani Defunti17:00Cognochiesa parrocchialeAdorazione e Ss. Confessioni18:00Cognochiesa parrocchialeS. Messa19:00Piambornochiesa parrocchialeAdorazione e Ss. Confessioni20:00Piambornochiesa parrocchialeS. Messa\, segue visita al camposanto21:00Cognochiesa parrocchialeAdorazione e Ss. Confessioni fino alle 22:00 segue Benedizione EucaristicaGiovedì 30 OttobreTRIDUO DEI DEFUNTISacerdoti e Suore Defunti17:00Cognochiesa parrocchialeAdorazione e Ss. Confessioni18:00Cognochiesa parrocchialeS. Messa di chiusura del Triduo19:00Piambornochiesa parrocchialeAdorazione e Ss. Confessioni20:00Piambornochiesa parrocchialeS. Messa di chiusura del Triduo
URL:https://www.parrpiamborno.com/index.php/event/triduo-dei-defunti-2/
CATEGORIES:Celebrazioni,Parrocchia,Parrocchia Cogno,Parrocchia Piamborno
END:VEVENT
BEGIN:VEVENT
DTSTART;TZID=Europe/Rome:20251026T000000
DTEND;TZID=Europe/Rome:20251026T235959
DTSTAMP:20260419T162100
CREATED:20251020T111656Z
LAST-MODIFIED:20251020T111707Z
UID:3968-1761436800-1761523199@www.parrpiamborno.com
SUMMARY:Madonna del S. Rosario e Richiamo della Missione Popolare
DESCRIPTION:In questa giornata vivremo il RICHIAMO DELLA MISSIONE PARROCCHIALE che abbiamo celebrato in Marzo e Aprile scorsi. \n\n\n\nProgramma:  \n\n\n\n\nore 10 S. Messa a Piamborno\n\n\n\nOre 11 Solenne Processione Mariana\n\n\n\n\nContinua il pomeriggio con la castagnata e la merenda
URL:https://www.parrpiamborno.com/index.php/event/madonna-del-s-rosario-e-richiamo-della-missione-popolare/
CATEGORIES:Missioni,Parrocchia,Parrocchia Cogno,Parrocchia Piamborno
ATTACH;FMTTYPE=image/jpeg:https://www.parrpiamborno.com/wp-content/uploads/2025/10/Immagine-WhatsApp-2025-10-20-ore-12.49.32_b472e0a8.jpg
END:VEVENT
BEGIN:VEVENT
DTSTART;TZID=Europe/Rome:20251009T203000
DTEND;TZID=Europe/Rome:20251009T220000
DTSTAMP:20260419T162100
CREATED:20250930T142817Z
LAST-MODIFIED:20251002T202154Z
UID:3874-1760041800-1760047200@www.parrpiamborno.com
SUMMARY:Il prodigio della grazia - presentazione libro sul santuario di Ardesio
DESCRIPTION:IL PRODIGIO DELLA GRAZIAII santuario della Madonna di Ardesio in quattro secoli di devozione di comunità.di Marco Carobbio
URL:https://www.parrpiamborno.com/index.php/event/il-prodigio-della-grazia-presentazione-libro-sul-santuario-di-ardesio/
LOCATION:Teatro dell’Oratorio di Piamborno\, Via Nazionale\, 14\, Piamborno\, Brescia\, 25052\, Italy
CATEGORIES:Parrocchia,Teatro
ATTACH;FMTTYPE=image/jpeg:https://www.parrpiamborno.com/wp-content/uploads/2025/09/Immagine-WhatsApp-2025-09-27-ore-17.26.22_637e5359.jpg
ORGANIZER;CN="Vivi Ardesio":MAILTO:info@viviardesio.it
END:VEVENT
BEGIN:VEVENT
DTSTART;VALUE=DATE:20250728
DTEND;VALUE=DATE:20250804
DTSTAMP:20260419T162100
CREATED:20250126T133748Z
LAST-MODIFIED:20250126T133748Z
UID:3446-1753660800-1754265599@www.parrpiamborno.com
SUMMARY:Giubileo dei giovani
DESCRIPTION:Per tutte le informazioni visita la pagina dedicata alle iniziative dell’estate 2025
URL:https://www.parrpiamborno.com/index.php/event/giubileo-dei-giovani/
LOCATION:Roma\, Roma\, Italy
CATEGORIES:Oratorio Cogno,Oratorio Piamborno,Parrocchia Cogno,Parrocchia Piamborno
END:VEVENT
BEGIN:VEVENT
DTSTART;TZID=Europe/Rome:20250408T161500
DTEND;TZID=Europe/Rome:20250408T200000
DTSTAMP:20260419T162100
CREATED:20250403T124037Z
LAST-MODIFIED:20250403T124045Z
UID:3737-1744128900-1744142400@www.parrpiamborno.com
SUMMARY:Pellegrinaggio Giubilare per Bambini e Ragazzi
DESCRIPTION:
URL:https://www.parrpiamborno.com/index.php/event/pellegrinaggio-giubilare-per-bambini-e-ragazzi/
LOCATION:Convento e Chiesa della SS. Annunciata\, Piazza S. Francesco\, 1\, Piancogno\, Brescia\, 25052\, Italy
CATEGORIES:Parrocchia Cogno,Parrocchia Piamborno
END:VEVENT
BEGIN:VEVENT
DTSTART;TZID=Europe/Rome:20250406T103000
DTEND;TZID=Europe/Rome:20250406T120000
DTSTAMP:20260419T162100
CREATED:20250318T205041Z
LAST-MODIFIED:20250318T205044Z
UID:3663-1743935400-1743940800@www.parrpiamborno.com
SUMMARY:Messa di chiusura della Missione con mandato operatori pastorali
DESCRIPTION:View FullscreenSkip to PDF content
URL:https://www.parrpiamborno.com/index.php/event/messa-di-chiusura-della-missione-con-mandato-operatori-pastorali/
LOCATION:Chiesa di Piamborno\, Via XI Febbraio\, 10\, Piamborno\, Brescia\, 25052\, Italy
CATEGORIES:Missioni
END:VEVENT
BEGIN:VEVENT
DTSTART;TZID=Europe/Rome:20250406T083000
DTEND;TZID=Europe/Rome:20250406T103000
DTSTAMP:20260419T162100
CREATED:20250318T201117Z
LAST-MODIFIED:20250318T201121Z
UID:3644-1743928200-1743935400@www.parrpiamborno.com
SUMMARY:Colazione in Oratorio
DESCRIPTION:
URL:https://www.parrpiamborno.com/index.php/event/colazione-in-oratorio-3/
LOCATION:Oratorio S.Vittore Piamborno\, Via Nazionale\, 14\, Piamborno BS\, Brescia\, 25052\, Italia
CATEGORIES:Missioni
END:VEVENT
BEGIN:VEVENT
DTSTART;TZID=Europe/Rome:20250405T150000
DTEND;TZID=Europe/Rome:20250405T160000
DTSTAMP:20260419T162100
CREATED:20250322T152232Z
LAST-MODIFIED:20250403T130923Z
UID:3706-1743865200-1743868800@www.parrpiamborno.com
SUMMARY:Un giardino dell'Eden a Pian di Borno a metà novecento
DESCRIPTION:
URL:https://www.parrpiamborno.com/index.php/event/un-giardino-delleden-a-pian-di-borno-e-meta-novecento/
CATEGORIES:Missioni
END:VEVENT
END:VCALENDAR