BEGIN:VCALENDAR
VERSION:2.0
PRODID:-//Parrocchie di Piamborno e Cogno - ECPv6.15.20//NONSGML v1.0//EN
CALSCALE:GREGORIAN
METHOD:PUBLISH
X-WR-CALNAME:Parrocchie di Piamborno e Cogno
X-ORIGINAL-URL:https://www.parrpiamborno.com
X-WR-CALDESC:Eventi per Parrocchie di Piamborno e Cogno
REFRESH-INTERVAL;VALUE=DURATION:PT1H
X-Robots-Tag:noindex
X-PUBLISHED-TTL:PT1H
BEGIN:VTIMEZONE
TZID:Europe/Rome
BEGIN:DAYLIGHT
TZOFFSETFROM:+0100
TZOFFSETTO:+0200
TZNAME:CEST
DTSTART:20240331T010000
END:DAYLIGHT
BEGIN:STANDARD
TZOFFSETFROM:+0200
TZOFFSETTO:+0100
TZNAME:CET
DTSTART:20241027T010000
END:STANDARD
BEGIN:DAYLIGHT
TZOFFSETFROM:+0100
TZOFFSETTO:+0200
TZNAME:CEST
DTSTART:20250330T010000
END:DAYLIGHT
BEGIN:STANDARD
TZOFFSETFROM:+0200
TZOFFSETTO:+0100
TZNAME:CET
DTSTART:20251026T010000
END:STANDARD
BEGIN:DAYLIGHT
TZOFFSETFROM:+0100
TZOFFSETTO:+0200
TZNAME:CEST
DTSTART:20260329T010000
END:DAYLIGHT
BEGIN:STANDARD
TZOFFSETFROM:+0200
TZOFFSETTO:+0100
TZNAME:CET
DTSTART:20261025T010000
END:STANDARD
END:VTIMEZONE
BEGIN:VEVENT
DTSTART;VALUE=DATE:20250323
DTEND;VALUE=DATE:20250407
DTSTAMP:20260420T202203
CREATED:20250119T005043Z
LAST-MODIFIED:20250309T214700Z
UID:3411-1742688000-1743983999@www.parrpiamborno.com
SUMMARY:Missioni popolari
DESCRIPTION:
URL:https://www.parrpiamborno.com/index.php/event/missioni-popolari/
CATEGORIES:Parrocchia Cogno,Parrocchia Piamborno
END:VEVENT
BEGIN:VEVENT
DTSTART;TZID=Europe/Rome:20250401T203000
DTEND;TZID=Europe/Rome:20250401T223000
DTSTAMP:20260420T202203
CREATED:20250318T211120Z
LAST-MODIFIED:20250401T163847Z
UID:3673-1743539400-1743546600@www.parrpiamborno.com
SUMMARY:Veglia mariana
DESCRIPTION:View FullscreenSkip to PDF content
URL:https://www.parrpiamborno.com/index.php/event/veglia-mariana/
CATEGORIES:Missioni
END:VEVENT
BEGIN:VEVENT
DTSTART;TZID=Europe/Rome:20250402T203000
DTEND;TZID=Europe/Rome:20250402T223000
DTSTAMP:20260420T202203
CREATED:20250318T205323Z
LAST-MODIFIED:20250318T205327Z
UID:3665-1743625800-1743633000@www.parrpiamborno.com
SUMMARY:Serata dei Gruppi di Ascolto
DESCRIPTION:View FullscreenSkip to PDF content
URL:https://www.parrpiamborno.com/index.php/event/serata-dei-gruppi-di-ascolto/
LOCATION:Chiesa di Cogno\, Piazza don Pietro Stefanini\, 2\, Piancogno\, Italy
CATEGORIES:Missioni
END:VEVENT
BEGIN:VEVENT
DTSTART;TZID=Europe/Rome:20250403T203000
DTEND;TZID=Europe/Rome:20250403T223000
DTSTAMP:20260420T202203
CREATED:20250318T201444Z
LAST-MODIFIED:20250318T201447Z
UID:3650-1743712200-1743719400@www.parrpiamborno.com
SUMMARY:Festival per un mondo in Pace
DESCRIPTION:
URL:https://www.parrpiamborno.com/index.php/event/festival-per-un-mondo-in-pace/
LOCATION:Oratorio S.Vittore Piamborno\, Via Nazionale\, 14\, Piamborno BS\, Brescia\, 25052\, Italia
CATEGORIES:Missioni
END:VEVENT
BEGIN:VEVENT
DTSTART;TZID=Europe/Rome:20250404T203000
DTEND;TZID=Europe/Rome:20250404T223000
DTSTAMP:20260420T202203
CREATED:20250318T210957Z
LAST-MODIFIED:20250401T162956Z
UID:3671-1743798600-1743805800@www.parrpiamborno.com
SUMMARY:Via Crucis vivente
DESCRIPTION:View FullscreenSkip to PDF content
URL:https://www.parrpiamborno.com/index.php/event/via-crucis-vivente/
CATEGORIES:Missioni
END:VEVENT
BEGIN:VEVENT
DTSTART;TZID=Europe/Rome:20250405T000000
DTEND;TZID=Europe/Rome:20250405T235959
DTSTAMP:20260420T202203
CREATED:20250403T122532Z
LAST-MODIFIED:20250403T124115Z
UID:3732-1743811200-1743897599@www.parrpiamborno.com
SUMMARY:Madonnari di Bergamo
DESCRIPTION:
URL:https://www.parrpiamborno.com/index.php/event/madonnari-di-bergamo/
LOCATION:Chiesa di Piamborno\, Via XI Febbraio\, 10\, Piamborno\, Brescia\, 25052\, Italy
CATEGORIES:Missioni
END:VEVENT
BEGIN:VEVENT
DTSTART;TZID=Europe/Rome:20250405T150000
DTEND;TZID=Europe/Rome:20250405T160000
DTSTAMP:20260420T202203
CREATED:20250322T152232Z
LAST-MODIFIED:20250403T130923Z
UID:3706-1743865200-1743868800@www.parrpiamborno.com
SUMMARY:Un giardino dell'Eden a Pian di Borno a metà novecento
DESCRIPTION:
URL:https://www.parrpiamborno.com/index.php/event/un-giardino-delleden-a-pian-di-borno-e-meta-novecento/
CATEGORIES:Missioni
END:VEVENT
BEGIN:VEVENT
DTSTART;TZID=Europe/Rome:20250406T083000
DTEND;TZID=Europe/Rome:20250406T103000
DTSTAMP:20260420T202203
CREATED:20250318T201117Z
LAST-MODIFIED:20250318T201121Z
UID:3644-1743928200-1743935400@www.parrpiamborno.com
SUMMARY:Colazione in Oratorio
DESCRIPTION:
URL:https://www.parrpiamborno.com/index.php/event/colazione-in-oratorio-3/
LOCATION:Oratorio S.Vittore Piamborno\, Via Nazionale\, 14\, Piamborno BS\, Brescia\, 25052\, Italia
CATEGORIES:Missioni
END:VEVENT
BEGIN:VEVENT
DTSTART;TZID=Europe/Rome:20250406T103000
DTEND;TZID=Europe/Rome:20250406T120000
DTSTAMP:20260420T202203
CREATED:20250318T205041Z
LAST-MODIFIED:20250318T205044Z
UID:3663-1743935400-1743940800@www.parrpiamborno.com
SUMMARY:Messa di chiusura della Missione con mandato operatori pastorali
DESCRIPTION:View FullscreenSkip to PDF content
URL:https://www.parrpiamborno.com/index.php/event/messa-di-chiusura-della-missione-con-mandato-operatori-pastorali/
LOCATION:Chiesa di Piamborno\, Via XI Febbraio\, 10\, Piamborno\, Brescia\, 25052\, Italy
CATEGORIES:Missioni
END:VEVENT
BEGIN:VEVENT
DTSTART;TZID=Europe/Rome:20250408T161500
DTEND;TZID=Europe/Rome:20250408T200000
DTSTAMP:20260420T202203
CREATED:20250403T124037Z
LAST-MODIFIED:20250403T124045Z
UID:3737-1744128900-1744142400@www.parrpiamborno.com
SUMMARY:Pellegrinaggio Giubilare per Bambini e Ragazzi
DESCRIPTION:
URL:https://www.parrpiamborno.com/index.php/event/pellegrinaggio-giubilare-per-bambini-e-ragazzi/
LOCATION:Convento e Chiesa della SS. Annunciata\, Piazza S. Francesco\, 1\, Piancogno\, Brescia\, 25052\, Italy
CATEGORIES:Parrocchia Cogno,Parrocchia Piamborno
END:VEVENT
END:VCALENDAR